BEGIN:VCALENDAR
VERSION:2.0
PRODID:icalendar-ruby
CALSCALE:GREGORIAN
BEGIN:VEVENT
DTSTAMP:20260421T144111Z
UID:66552cb9-225d-40dc-acf1-442496d8f0df
DTSTART;VALUE=DATE:20210506
DESCRIPTION:Property ID# 507390\, Time: 4:00PM
SUMMARY:Auction for 
END:VEVENT
END:VCALENDAR
