BEGIN:VCALENDAR
VERSION:2.0
PRODID:icalendar-ruby
CALSCALE:GREGORIAN
BEGIN:VEVENT
DTSTAMP:20260421T104300Z
UID:b5f0b3f3-9882-4d66-a386-b473f96cb870
DTSTART;VALUE=DATE:20240723
DESCRIPTION:Property ID# 578080\, Time: 2:00PM
SUMMARY:Auction for 
END:VEVENT
END:VCALENDAR
