BEGIN:VCALENDAR
VERSION:2.0
PRODID:icalendar-ruby
CALSCALE:GREGORIAN
BEGIN:VEVENT
DTSTAMP:20260419T150045Z
UID:8308c65f-9500-485d-98fe-02fe3d679b4d
DTSTART;VALUE=DATE:20250917
DESCRIPTION:Property ID# 596640\, Time: 2:00PM
SUMMARY:Auction for 
END:VEVENT
END:VCALENDAR
